
BEGIN:VCALENDAR
VERSION:2.0
PRODID:-//NUS Chemistry - ECPv6.15.13//NONSGML v1.0//EN
CALSCALE:GREGORIAN
METHOD:PUBLISH
X-ORIGINAL-URL:https://chemistry.nus.edu.sg
X-WR-CALDESC:Events for NUS Chemistry
REFRESH-INTERVAL;VALUE=DURATION:PT1H
X-Robots-Tag:noindex
X-PUBLISHED-TTL:PT1H
BEGIN:VTIMEZONE
TZID:Asia/Singapore
BEGIN:STANDARD
TZOFFSETFROM:+0800
TZOFFSETTO:+0800
TZNAME:+08
DTSTART:20230101T000000
END:STANDARD
END:VTIMEZONE
BEGIN:VEVENT
DTSTART;TZID=Asia/Singapore:20250707T100000
DTEND;TZID=Asia/Singapore:20250707T120000
DTSTAMP:20260423T215426
CREATED:20250428T012857Z
LAST-MODIFIED:20250506T073641Z
UID:11717-1751882400-1751889600@chemistry.nus.edu.sg
SUMMARY:Bridging Physics-Informed and Data-Driven Materials Designs to Catalyze Deep Decarbonization by Professor Jiayu Peng
DESCRIPTION:Professor Jiayu Peng from University at Buffalo\, USA will give a research seminar on “Bridging Physics-Informed and Data-Driven Materials Designs to Catalyze Deep Decarbonization” on 7 July 2025 (Mon)\, 10 am\, at S14-06-19. Details of his seminar can be found below and all are welcome.
URL:https://chemistry.nus.edu.sg/event/bridging-physics-informed-and-data-driven-materials-designs-to-catalyze-deep-decarbonization-by-professor-jiayu-peng/
LOCATION:S14-06-19
CATEGORIES:Seminar,Invited Seminar
ORGANIZER;CN="Department of Chemistry%2C NUS":MAILTO:chemistry-outreach@nus.edu.sg
END:VEVENT
BEGIN:VEVENT
DTSTART;TZID=Asia/Singapore:20240808T103000
DTEND;TZID=Asia/Singapore:20240808T113000
DTSTAMP:20260423T215426
CREATED:20240820T081756Z
LAST-MODIFIED:20240820T081756Z
UID:10916-1723113000-1723116600@chemistry.nus.edu.sg
SUMMARY:Harnessing In-Gel Dynamic Covalent Chemistry for the Preparation and Processing of Covalent Organic Frameworks by Professor Felix Zamora
DESCRIPTION:Professor Felix Zamora’s from Autonomous University of Madrid\, Spain\, will give a research seminar on “Harnessing In-Gel Dynamic Covalent Chemistry for the Preparation and Processing of Covalent Organic Frameworks” on 8 Aug 2024 (Thu)\, 10.30am at S14-06-19. Details of his seminar is below and all are welcome. 
URL:https://chemistry.nus.edu.sg/event/harnessing-in-gel-dynamic-covalent-chemistry-for-the-preparation-and-processing-of-covalent-organic-frameworks-by-professor-felix-zamora/
LOCATION:S14-06-19
CATEGORIES:Seminar,Invited Seminar
ORGANIZER;CN="Department of Chemistry%2C NUS":MAILTO:chemistry-outreach@nus.edu.sg
END:VEVENT
BEGIN:VEVENT
DTSTART;TZID=Asia/Singapore:20240326T163000
DTEND;TZID=Asia/Singapore:20240326T173000
DTSTAMP:20260423T215426
CREATED:20240306T120257Z
LAST-MODIFIED:20240306T120257Z
UID:10419-1711470600-1711474200@chemistry.nus.edu.sg
SUMMARY:Transition Metal Catalyzed Cycloaddition Reactions to Synthesize Seven- and Eight-Membered Rings by Professor Zhi-Xiang YU
DESCRIPTION:Professor Zhi-Xiang Yu\, from College of Chemistry\, Peking University\, China will give a research seminar on “Transition Metal Catalyzed Cycloaddition Reactions to Synthesize Seven- and Eight-Membered Rings” on 26 Mar 2024 (Tue)\, 4.30pm at S14-06-19. Details of his seminar can be found below. All are welcome.
URL:https://chemistry.nus.edu.sg/event/transition-metal-catalyzed-cycloaddition-reactions-to-synthesize-seven-and-eight-membered-rings-by-professor-zhi-xiang-yu/
LOCATION:S14-06-19
CATEGORIES:Invited Seminar
END:VEVENT
BEGIN:VEVENT
DTSTART;TZID=Asia/Singapore:20240307T100000
DTEND;TZID=Asia/Singapore:20240307T120000
DTSTAMP:20260423T215426
CREATED:20240306T114540Z
LAST-MODIFIED:20240306T114941Z
UID:10404-1709805600-1709812800@chemistry.nus.edu.sg
SUMMARY:Research Seminar by Professor Hans H. Gorris and Professor Feng Wang
DESCRIPTION:Professor Hans H. Gorris from Department of Biochemistry\, Masaryk University\, Czech Republic and Professor Feng Wang from City University of Hong Kong SAR\, China will give 2 research seminars back to back tomorrow\, 7 March 2024 (Thu)\, from 10am to 12pm at S14-06-19. Details can be found below.
URL:https://chemistry.nus.edu.sg/event/research-seminar-by-professor-hans-h-gorris-and-professor-feng-wang/
LOCATION:S14-06-19
CATEGORIES:Invited Seminar
ORGANIZER;CN="Department of Chemistry%2C NUS":MAILTO:chemistry-outreach@nus.edu.sg
END:VEVENT
END:VCALENDAR