
BEGIN:VCALENDAR
VERSION:2.0
PRODID:-//NUS Chemistry - ECPv6.15.13//NONSGML v1.0//EN
CALSCALE:GREGORIAN
METHOD:PUBLISH
X-WR-CALNAME:NUS Chemistry
X-ORIGINAL-URL:https://chemistry.nus.edu.sg
X-WR-CALDESC:Events for NUS Chemistry
REFRESH-INTERVAL;VALUE=DURATION:PT1H
X-Robots-Tag:noindex
X-PUBLISHED-TTL:PT1H
BEGIN:VTIMEZONE
TZID:UTC
BEGIN:STANDARD
TZOFFSETFROM:+0000
TZOFFSETTO:+0000
TZNAME:UTC
DTSTART:20190101T000000
END:STANDARD
END:VTIMEZONE
BEGIN:VEVENT
DTSTART;TZID=UTC:20200122T150000
DTEND;TZID=UTC:20200422T163000
DTSTAMP:20260421T155430
CREATED:20200122T034809Z
LAST-MODIFIED:20220329T072718Z
UID:2470-1579705200-1587573000@chemistry.nus.edu.sg
SUMMARY:A Novel and Simple Method for Preparing Highly Stable Ni Catalysts and Catalytic Performance of Ni/SiO2in CO2Reforming of Methane
DESCRIPTION:Location: S8-03-14 Executive Classroom\nOpen To:  NUS staff and students | Event Detail
URL:https://chemistry.nus.edu.sg/event/a-novel-and-simple-method-for-preparing-highly-stable-ni-catalysts-and-catalytic-performance-of-ni-sio2in-co2reforming-of-methane/
CATEGORIES:Invited Seminar
END:VEVENT
END:VCALENDAR