
BEGIN:VCALENDAR
VERSION:2.0
PRODID:-//NUS Chemistry - ECPv6.15.13//NONSGML v1.0//EN
CALSCALE:GREGORIAN
METHOD:PUBLISH
X-WR-CALNAME:NUS Chemistry
X-ORIGINAL-URL:https://chemistry.nus.edu.sg
X-WR-CALDESC:Events for NUS Chemistry
REFRESH-INTERVAL;VALUE=DURATION:PT1H
X-Robots-Tag:noindex
X-PUBLISHED-TTL:PT1H
BEGIN:VTIMEZONE
TZID:Asia/Singapore
BEGIN:STANDARD
TZOFFSETFROM:+0800
TZOFFSETTO:+0800
TZNAME:+08
DTSTART:20240101T000000
END:STANDARD
END:VTIMEZONE
BEGIN:VEVENT
DTSTART;TZID=Asia/Singapore:20250203T153000
DTEND;TZID=Asia/Singapore:20250203T170000
DTSTAMP:20260424T101823
CREATED:20250127T014603Z
LAST-MODIFIED:20250127T014710Z
UID:11507-1738596600-1738602000@chemistry.nus.edu.sg
SUMMARY:Aerobic Oxidation Catalysis: Optimizing the Potential of O2 for Chemical Synthesis by Professor Shannon S. Stahl
DESCRIPTION:Professor Shannon S. Stahl from University of Wisconsin-Madison\, USA will give a public lecture on “Aerobic Oxidation Catalysis: Optimizing the Potential of O2 for Chemical Synthesis” on 3 February 2025 (Mon)\, 3.30 pm\, at University Hall Auditorium. Details of his lecture can be found below. Admission is FREE but seating capacity is limited. Please register your interest by 28 Jan 2025 (Tue). Ms June Chan will send an e-mail with further details to the confirmed attendees closer to the seminar date.
URL:https://chemistry.nus.edu.sg/event/aerobic-oxidation-catalysis-optimizing-the-potential-of-o2-for-chemical-synthesis-by-professor-shannon-s-stahl/
LOCATION:U-Hall Auditorium\, Singapore
CATEGORIES:Seminar,Distinguished Lectureship
ORGANIZER;CN="Department of Chemistry%2C NUS":MAILTO:chemistry-outreach@nus.edu.sg
END:VEVENT
BEGIN:VEVENT
DTSTART;TZID=Asia/Singapore:20250204T103000
DTEND;TZID=Asia/Singapore:20250204T120000
DTSTAMP:20260424T101823
CREATED:20250127T014847Z
LAST-MODIFIED:20250127T014847Z
UID:11512-1738665000-1738670400@chemistry.nus.edu.sg
SUMMARY:Principles and Applications of Organic Electrosynthesis by Professor Shannon S. Stahl
DESCRIPTION:Professor Shannon S. Stahl from University of Wisconsin-Madison\, USA will give a public lecture on “Principles and Applications of Organic Electrosynthesis” on 4 February 2025 (Tue)\, 10.30 am\, at University Hall Auditorium. Details of his lecture can be found below.  Admission is FREE but seating capacity is limited. Please register your interest by 28 Jan 2025 (Tue). Ms June Chan will send an e-mail with further details to the confirmed attendees closer to the seminar date.
URL:https://chemistry.nus.edu.sg/event/principles-and-applications-of-organic-electrosynthesis-by-professor-shannon-s-stahl/
LOCATION:U-Hall Auditorium\, Singapore
CATEGORIES:Seminar,Distinguished Lectureship
ORGANIZER;CN="Department of Chemistry%2C NUS":MAILTO:chemistry-outreach@nus.edu.sg
END:VEVENT
BEGIN:VEVENT
DTSTART;TZID=Asia/Singapore:20250205T103000
DTEND;TZID=Asia/Singapore:20250205T120000
DTSTAMP:20260424T101823
CREATED:20250127T015033Z
LAST-MODIFIED:20250127T015033Z
UID:11515-1738751400-1738756800@chemistry.nus.edu.sg
SUMMARY:Aerobic Oxidation Methods for Valorization of “Waste Carbon” by Professor Shannon S. Stahl
DESCRIPTION:Professor Shannon S. Stahl from University of Wisconsin-Madison\, USA will give a public lecture on Aerobic Oxidation Methods for Valorization of “Waste Carbon” on 5 February 2025 (Wed)\, 10.30 am\, at LT32. Details of his lecture can be found below and all are welcome.
URL:https://chemistry.nus.edu.sg/event/aerobic-oxidation-methods-for-valorization-of-waste-carbon-by-professor-shannon-s-stahl/
CATEGORIES:Seminar,Distinguished Lectureship
ORGANIZER;CN="Department of Chemistry%2C NUS":MAILTO:chemistry-outreach@nus.edu.sg
END:VEVENT
END:VCALENDAR