
BEGIN:VCALENDAR
VERSION:2.0
PRODID:-//NUS Chemistry - ECPv6.15.13//NONSGML v1.0//EN
CALSCALE:GREGORIAN
METHOD:PUBLISH
X-WR-CALNAME:NUS Chemistry
X-ORIGINAL-URL:https://chemistry.nus.edu.sg
X-WR-CALDESC:Events for NUS Chemistry
REFRESH-INTERVAL;VALUE=DURATION:PT1H
X-Robots-Tag:noindex
X-PUBLISHED-TTL:PT1H
BEGIN:VTIMEZONE
TZID:Asia/Singapore
BEGIN:STANDARD
TZOFFSETFROM:+0800
TZOFFSETTO:+0800
TZNAME:+08
DTSTART:20210101T000000
END:STANDARD
END:VTIMEZONE
BEGIN:VEVENT
DTSTART;TZID=Asia/Singapore:20220615T110000
DTEND;TZID=Asia/Singapore:20220615T120000
DTSTAMP:20260419T203943
CREATED:20220607T060339Z
LAST-MODIFIED:20220607T060928Z
UID:7405-1655290800-1655294400@chemistry.nus.edu.sg
SUMMARY:Superconductors and 3D Graphenes: Wild Dreams of Metal-Organic Frameworks by Professor Zhengtao Xu
DESCRIPTION:Professor Zhengtao Xu from Institute of Materials Research and Engineering\,  A*STAR\, Singapore will give a research seminar on “Superconductors and 3D Graphenes: Wild Dreams of Metal-Organic Frameworks”.  He will be sharing a two-step strategy for accessing crystalline porous covalent networks of highly conjugated π-electron systems emulating the coveted 3D graphenes and the breakthrough in the modular synthesis of MOF solids extensively equipped with the mercaptan function\, in order to fully exploit the unique metal-uptake\, catalytic and electronic properties afforded by the thiol function.  You can find the details below.
URL:https://chemistry.nus.edu.sg/event/superconductors-and-3d-graphenes-wild-dreams-of-metal-organic-frameworks-by-professor-zhengtao-xu/
LOCATION:Executive Classroom S8-03-10
CATEGORIES:Seminar,Invited Seminar
ORGANIZER;CN="Department of Chemistry%2C NUS":MAILTO:chemistry-outreach@nus.edu.sg
END:VEVENT
BEGIN:VEVENT
DTSTART;TZID=Asia/Singapore:20220616T110000
DTEND;TZID=Asia/Singapore:20220616T120000
DTSTAMP:20260419T203943
CREATED:20220607T061424Z
LAST-MODIFIED:20220607T061424Z
UID:7410-1655377200-1655380800@chemistry.nus.edu.sg
SUMMARY:From single-molecule emitters to entangled excitonic states: the insights from the scanning-probe spectromicroscopy by Professor Professor Martin Švec
DESCRIPTION:Professor Martin Švec from Institute of Physics\, Czech Academy of Sciences\, Praha\, Czech Republic will give a research seminar on “From single-molecule emitters to entangled excitonic states: the insights from the scanning-probe spectromicroscopy”.  He will be sharing how light spectromicroscopy in plasmonic nanocavities opened the path to investigation of individual excited molecules with unprecedented detail. Details can be found below.
URL:https://chemistry.nus.edu.sg/event/from-single-molecule-emitters-to-entangled-excitonic-states-the-insights-from-the-scanning-probe-spectromicroscopy-by-professor-professor-martin-svec/
LOCATION:Executive Classroom S8-03-10
CATEGORIES:Seminar,Invited Seminar
ORGANIZER;CN="Department of Chemistry%2C NUS":MAILTO:chemistry-outreach@nus.edu.sg
END:VEVENT
BEGIN:VEVENT
DTSTART;TZID=Asia/Singapore:20220623T100000
DTEND;TZID=Asia/Singapore:20220623T113000
DTSTAMP:20260419T203943
CREATED:20220607T062259Z
LAST-MODIFIED:20220607T063443Z
UID:7413-1655978400-1655983800@chemistry.nus.edu.sg
SUMMARY:Advancing Catalysis via Nanoscale Engineering by Professor Javier Pérez-Ramírez
DESCRIPTION:Professor Javier Pérez-Ramírez from Institute for Chemical and Bioengineering\, ETH Zurich\, Switzerland will give a research seminar on “Advancing Catalysis via Nanoscale Engineering”.  He will illustrate how this intellectual growth in the understanding of catalyzed processes can kindle revolutionary technological advancements\, demonstrate the importance of precisely controlling the nuclearity and speciation of supported metals\, and show how this precision fosters catalyst discovery. Details can be found below. \n 
URL:https://chemistry.nus.edu.sg/event/advancing-catalysis-via-nanoscale-engineering-by-professor-javier-perez-ramirez/
LOCATION:LT27\, Singapore
CATEGORIES:Seminar,Invited Seminar
ORGANIZER;CN="Department of Chemistry%2C NUS":MAILTO:chemistry-outreach@nus.edu.sg
END:VEVENT
BEGIN:VEVENT
DTSTART;TZID=Asia/Singapore:20220628T110000
DTEND;TZID=Asia/Singapore:20220628T120000
DTSTAMP:20260419T203943
CREATED:20220623T040058Z
LAST-MODIFIED:20220623T040310Z
UID:7574-1656414000-1656417600@chemistry.nus.edu.sg
SUMMARY:Chemical Plasmonics and Biodiagnostic Applications of Nanostructured Metal Particles by Professor Jwa-Min Nam
DESCRIPTION:Professor Jwa-Min Nam from Department of Chemistry\, Seoul National University\, South Korea\, will give a research seminar on “Chemical Plasmonics and Biodiagnostic Applications of Nanostructured Metal Particles”. He will introduce the design\, synthetic strategies and characterization of molecularly tunable and structurally reproducible plasmonic nanostructures with strong\, controllable and quantifiable plasmonic signals and functions.  Details can be found below. \n \n 
URL:https://chemistry.nus.edu.sg/event/chemical-plasmonics-and-biodiagnostic-applications-of-nanostructured-metal-particles-by-professor-jwa-min-nam/
LOCATION:Executive Classroom S8-03-10
CATEGORIES:Seminar,Invited Seminar
ORGANIZER;CN="Department of Chemistry%2C NUS":MAILTO:chemistry-outreach@nus.edu.sg
END:VEVENT
BEGIN:VEVENT
DTSTART;TZID=Asia/Singapore:20220628T160000
DTEND;TZID=Asia/Singapore:20220628T170000
DTSTAMP:20260419T203943
CREATED:20220622T070808Z
LAST-MODIFIED:20220622T070904Z
UID:7561-1656432000-1656435600@chemistry.nus.edu.sg
SUMMARY:Conformational changes induced by chaperone interactions facilitate lipid transport critical for bacterial outer membrane asymmetry
DESCRIPTION:Dr Yeow Jiang\, a Research Fellow in Assoc. Prof. Chng Shu Sin’s group\, will be giving a research seminar on ”Conformational changes induced by chaperone interactions facilitate lipid transport critical for bacterial outer membrane asymmetry”.  The face-to-face seminar will be held on 28 June 2022 (Tue)\, 4pm at the Executive Classroom S8-03-14. Details of the seminar can be found below.   
URL:https://chemistry.nus.edu.sg/event/conformational-changes-induced-by-chaperone-interactions-facilitate-lipid-transport-critical-for-bacterial-outer-membrane-asymmetry/
LOCATION:Executive Classroom S8-03-10
CATEGORIES:Seminar,Student Seminar
ORGANIZER;CN="Department of Chemistry%2C NUS":MAILTO:chemistry-outreach@nus.edu.sg
END:VEVENT
BEGIN:VEVENT
DTSTART;TZID=Asia/Singapore:20220629T150000
DTEND;TZID=Asia/Singapore:20220629T160000
DTSTAMP:20260419T203943
CREATED:20220611T125255Z
LAST-MODIFIED:20220614T123919Z
UID:7445-1656514800-1656518400@chemistry.nus.edu.sg
SUMMARY:Porous Conductive Textiles for Wearable Electronics by Professor Zijian Zheng
DESCRIPTION:Professor Zijian Zheng from Institute of Textile and Clothing\, the Hong Kong Polytechnic University\, will give a research seminar on “Porous Conductive Textiles for Wearable Electronics”. He will share the recent development of conductive textile materials and their applications in wearable electronics. Details can be found below. \n \n 
URL:https://chemistry.nus.edu.sg/event/porous-conductive-textiles-for-wearable-electronics-by-professor-zijian-zheng/
LOCATION:Executive Classroom S8-03-10
CATEGORIES:Seminar,Invited Seminar
ORGANIZER;CN="Department of Chemistry%2C NUS":MAILTO:chemistry-outreach@nus.edu.sg
END:VEVENT
BEGIN:VEVENT
DTSTART;TZID=Asia/Singapore:20220629T160000
DTEND;TZID=Asia/Singapore:20220629T170000
DTSTAMP:20260419T203943
CREATED:20220614T125809Z
LAST-MODIFIED:20220614T125953Z
UID:7455-1656518400-1656522000@chemistry.nus.edu.sg
SUMMARY:The Road of Design in Technology-dominated World: Aesthetics in Design Science Research by Professor Li Li
DESCRIPTION:Professor Li Li from Institute of Textile and Clothing\, the Hong Kong Polytechnic University\, will give a research seminar on “The Road of Design in Technology-dominated World: Aesthetics in Design Science Research”. She will describe her projects as examples of an “art to science” research approach and the role of “aesthetic” on “science”. Specifically\, these themes revolve around understanding the customer experience\, societal needs\, and the past in order to anticipate the future. Details can be found below. \n \n 
URL:https://chemistry.nus.edu.sg/event/the-road-of-design-in-technology-dominated-world-aesthetics-in-design-science-research-by-professor-li-li/
LOCATION:Executive Classroom S8-03-10
CATEGORIES:Seminar,Invited Seminar
ORGANIZER;CN="Department of Chemistry%2C NUS":MAILTO:chemistry-outreach@nus.edu.sg
END:VEVENT
BEGIN:VEVENT
DTSTART;TZID=Asia/Singapore:20220630T150000
DTEND;TZID=Asia/Singapore:20220630T163000
DTSTAMP:20260419T203943
CREATED:20220616T041002Z
LAST-MODIFIED:20220620T021352Z
UID:7470-1656601200-1656606600@chemistry.nus.edu.sg
SUMMARY:Fluorescent and Bioluminescent Probes for Imaging and Diagnostics by Professor Kai Johnsson
DESCRIPTION:Join us! The Department Seminar Series [online] on “Fluorescent and Bioluminescent Probes for Imaging and Diagnostics” by  Professor Kai Johnsson from Max-Planck Institute for Medical Research\, Department of Chemical Biology\, Germany and EPFL Lausanne\, Institute of Chemical Sciences and Engineering\, Switzerland will be held on 30th June 2022 (Thu) at 3pm (SGT). He will share his group attempts to introduce new fluorescent dyes and sensor proteins that permit to visualize biochemical activities in living cells with high spatial and temporal resolution.  He will also discuss how these sensor proteins can be utilized for point-of-care therapeutic drug monitoring.  Please register here using your NUS email account/your Institution email account (for non-NUS) to attend this seminar. 
URL:https://chemistry.nus.edu.sg/event/fluorescent-and-bioluminescent-probes-for-imaging-and-diagnostics-by-professor-kai-johnsson/
LOCATION:Online
CATEGORIES:Seminar,Department Seminar
ORGANIZER;CN="Department of Chemistry%2C NUS":MAILTO:chemistry-outreach@nus.edu.sg
END:VEVENT
END:VCALENDAR