
BEGIN:VCALENDAR
VERSION:2.0
PRODID:-//NUS Chemistry - ECPv6.15.13//NONSGML v1.0//EN
CALSCALE:GREGORIAN
METHOD:PUBLISH
X-WR-CALNAME:NUS Chemistry
X-ORIGINAL-URL:https://chemistry.nus.edu.sg
X-WR-CALDESC:Events for NUS Chemistry
REFRESH-INTERVAL;VALUE=DURATION:PT1H
X-Robots-Tag:noindex
X-PUBLISHED-TTL:PT1H
BEGIN:VTIMEZONE
TZID:Asia/Singapore
BEGIN:STANDARD
TZOFFSETFROM:+0800
TZOFFSETTO:+0800
TZNAME:+08
DTSTART:20210101T000000
END:STANDARD
END:VTIMEZONE
BEGIN:VEVENT
DTSTART;TZID=Asia/Singapore:20220526T160000
DTEND;TZID=Asia/Singapore:20220526T173000
DTSTAMP:20260419T221948
CREATED:20220515T094634Z
LAST-MODIFIED:20220515T103711Z
UID:7327-1653580800-1653586200@chemistry.nus.edu.sg
SUMMARY:Novel Non-Benzenoid Graphene Isomers by On-Surface Synthesis by Professor J. Michael Gottfried
DESCRIPTION:Join us! The Department Seminar Series [online] on “Novel Non-Benzenoid Graphene Isomers by On-Surface Synthesis” by  Professor J. Michael Gottfried from Department of Chemistry\, Philipps-Universität Marburg\, Germany will be held on 26th May 2022 (Thu) at 4pm (SGT). He will share the success of his group in developing an on-surface synthesis strategy by which they first generate straight polymer chains\, which then link to form the non-benzenoid graphene isomers. Please register here using your NUS email account/your Institution email account (for non-NUS) to attend this seminar. 
URL:https://chemistry.nus.edu.sg/event/novel-non-benzenoid-graphene-isomers-by-on-surface-synthesis-by-professor-j-michael-gottfried/
LOCATION:Online
CATEGORIES:Seminar,Department Seminar
ORGANIZER;CN="Department of Chemistry%2C NUS":MAILTO:chemistry-outreach@nus.edu.sg
END:VEVENT
BEGIN:VEVENT
DTSTART;TZID=Asia/Singapore:20220530T160000
DTEND;TZID=Asia/Singapore:20220530T170000
DTSTAMP:20260419T221948
CREATED:20220602T105006Z
LAST-MODIFIED:20220602T105141Z
UID:7373-1653926400-1653930000@chemistry.nus.edu.sg
SUMMARY:NHC Ligand-Enabled Ni-Catalyzed Enantioselective Functionalization of Alkenes to Access Tri- and Tetrasubstituted Stereocenters
DESCRIPTION:Mr LIU Chenfei\, a Ph.D. student in Asst. Prof. Koh Ming Joo’s group\, will be giving an online research seminar on ”NHC Ligand-Enabled Ni-Catalyzed Enantioselective Functionalization of Alkenes to Access Tri- and Tetrasubstituted Stereocenters”. The online seminar will be held on 30 May 2022 (Mon)\, 4pm SGT. Details of the seminar can be found below.
URL:https://chemistry.nus.edu.sg/event/nhc-ligand-enabled-ni-catalyzed-enantioselective-functionalization-of-alkenes-to-access-tri-and-tetrasubstituted-stereocenters/
LOCATION:Online
CATEGORIES:Seminar,Student Seminar
ORGANIZER;CN="Department of Chemistry%2C NUS":MAILTO:chemistry-outreach@nus.edu.sg
END:VEVENT
END:VCALENDAR