
BEGIN:VCALENDAR
VERSION:2.0
PRODID:-//NUS Chemistry - ECPv6.15.13//NONSGML v1.0//EN
CALSCALE:GREGORIAN
METHOD:PUBLISH
X-WR-CALNAME:NUS Chemistry
X-ORIGINAL-URL:https://chemistry.nus.edu.sg
X-WR-CALDESC:Events for NUS Chemistry
REFRESH-INTERVAL;VALUE=DURATION:PT1H
X-Robots-Tag:noindex
X-PUBLISHED-TTL:PT1H
BEGIN:VTIMEZONE
TZID:Asia/Singapore
BEGIN:STANDARD
TZOFFSETFROM:+0800
TZOFFSETTO:+0800
TZNAME:+08
DTSTART:20210101T000000
END:STANDARD
END:VTIMEZONE
BEGIN:VEVENT
DTSTART;TZID=Asia/Singapore:20220228T140000
DTEND;TZID=Asia/Singapore:20220228T170000
DTSTAMP:20260420T131450
CREATED:20220216T101847Z
LAST-MODIFIED:20220216T102100Z
UID:6548-1646056800-1646067600@chemistry.nus.edu.sg
SUMMARY:NUS Chemistry e-Open House 28 Feb 2022!
DESCRIPTION:Join us! The NUS Chemistry e-Open House will be held online on 28 February 2022 from 2pm to 5pm.  \nYou may have heard: Chemistry is the central science. The interactions of atoms and molecules that make up all matter – merging  with biology on one end (such as biochemical processes in organisms) and physics on the other (the chemical-physical changes all around us).  At NUS Chemistry\, we do more than synthesising  chemicals in the lab. We study and understand matter on the molecular level\, synthesising complex knowledge from different domains to make these matters better.  \nAs the central science\, chemistry is relevant to every aspect of life. That is why under the new College of Humanities and Sciences (CHS)\, you get to integrate your chemistry knowledge across disciplines with greater flexibility than before. Getting excited? Find out more directly from our professors and students on 28 February!
URL:https://chemistry.nus.edu.sg/event/nus-chemistry-e-open-house-28-feb-2022/
LOCATION:Online
CATEGORIES:Outreach
ORGANIZER;CN="Department of Chemistry%2C NUS":MAILTO:chemistry-outreach@nus.edu.sg
END:VEVENT
END:VCALENDAR