
BEGIN:VCALENDAR
VERSION:2.0
PRODID:-//NUS Chemistry - ECPv6.15.13//NONSGML v1.0//EN
CALSCALE:GREGORIAN
METHOD:PUBLISH
X-WR-CALNAME:NUS Chemistry
X-ORIGINAL-URL:https://chemistry.nus.edu.sg
X-WR-CALDESC:Events for NUS Chemistry
REFRESH-INTERVAL;VALUE=DURATION:PT1H
X-Robots-Tag:noindex
X-PUBLISHED-TTL:PT1H
BEGIN:VTIMEZONE
TZID:Asia/Singapore
BEGIN:STANDARD
TZOFFSETFROM:+0800
TZOFFSETTO:+0800
TZNAME:+08
DTSTART:20200101T000000
END:STANDARD
END:VTIMEZONE
BEGIN:VEVENT
DTSTART;TZID=Asia/Singapore:20210531T080000
DTEND;TZID=Asia/Singapore:20210604T170000
DTSTAMP:20260421T091117
CREATED:20210204T084904Z
LAST-MODIFIED:20210530T045611Z
UID:4965-1622448000-1622826000@chemistry.nus.edu.sg
SUMMARY:NUS Chemistry Week 2021
DESCRIPTION:The Department of Chemistry\, NUS is organising a range of chemistry-themed events and activities suitable for secondary school and pre-University students as well as for teachers in the NUS Chemistry Week 2021 which will be taking place from 31 May to 4 June 2021. In the light of evolving COVID-19 situation\, the 26th Chem-dot-Comm Challenge event has moved online for the year 2021. We also have the “Colorful Chemistry” and the 3rd “Advancing the Frontiers of Science and Technology with Chemistry” online talks on 1 June and 3 June respectively. Check them out on NUS Chemistry Week 2021 webpage!
URL:https://chemistry.nus.edu.sg/event/nus-chemistry-week/
CATEGORIES:Outreach
ATTACH;FMTTYPE=image/png:https://chemistry.nus.edu.sg/wp-content/uploads/sites/3/2021/02/ChemWeekBanner-1024x242-1.png
END:VEVENT
END:VCALENDAR